BEGIN:VCALENDAR
VERSION:2.0
PRODID:-//Stichting Muziekonderwijs Leidendorp en omstreken - ECPv4.9.13//NONSGML v1.0//EN
CALSCALE:GREGORIAN
METHOD:PUBLISH
X-WR-CALNAME:Stichting Muziekonderwijs Leidendorp en omstreken
X-ORIGINAL-URL:https://www.muziekonderwijs-leiderdorp.nl
X-WR-CALDESC:Events for Stichting Muziekonderwijs Leidendorp en omstreken
BEGIN:VTIMEZONE
TZID:Europe/Paris
BEGIN:DAYLIGHT
TZOFFSETFROM:+0100
TZOFFSETTO:+0200
TZNAME:CEST
DTSTART:20190331T010000
END:DAYLIGHT
BEGIN:STANDARD
TZOFFSETFROM:+0200
TZOFFSETTO:+0100
TZNAME:CET
DTSTART:20191027T010000
END:STANDARD
END:VTIMEZONE
BEGIN:VEVENT
DTSTART;TZID=Europe/Paris:20191109T150000
DTEND;TZID=Europe/Paris:20191109T160000
DTSTAMP:20260422T120129
CREATED:20191031T220357Z
LAST-MODIFIED:20191031T220733Z
UID:5893-1573311600-1573315200@www.muziekonderwijs-leiderdorp.nl
SUMMARY:Zingen bij het van Dam Orgel
DESCRIPTION:Zaterdag 9 november 2019 Zingen bij het Van Dam orgel\nLocatie: Dorpskerk Zoeterwoude\nTijdstip: 15:00 uur \n\nTer ere van het 150 jarige van Dam Orgel worden (net als op koningsdag) doorgaans bekende wereldlijke liederen gezongen. Houdt u van zingen\, doe mee. Toegang gratis (met vrijwillige bijdrage bij de uitgang).\nVoor orgelbegeleiding zorgt Ben Veldstra.  Tevens medewerking van het mannenzanggroepje I’ Signori o.l.v. Ineke Coenders. \n
URL:https://www.muziekonderwijs-leiderdorp.nl/cursus/zingen-bij-het-van-dam-orgel/
LOCATION:Dorpskerk Zoeterwoude
END:VEVENT
END:VCALENDAR