BEGIN:VCALENDAR
VERSION:2.0
PRODID:-//Stichting Muziekonderwijs Leidendorp en omstreken - ECPv4.9.13//NONSGML v1.0//EN
CALSCALE:GREGORIAN
METHOD:PUBLISH
X-WR-CALNAME:Stichting Muziekonderwijs Leidendorp en omstreken
X-ORIGINAL-URL:https://www.muziekonderwijs-leiderdorp.nl
X-WR-CALDESC:Events for Stichting Muziekonderwijs Leidendorp en omstreken
BEGIN:VTIMEZONE
TZID:Europe/Paris
BEGIN:DAYLIGHT
TZOFFSETFROM:+0100
TZOFFSETTO:+0200
TZNAME:CEST
DTSTART:20190331T010000
END:DAYLIGHT
BEGIN:STANDARD
TZOFFSETFROM:+0200
TZOFFSETTO:+0100
TZNAME:CET
DTSTART:20191027T010000
END:STANDARD
END:VTIMEZONE
BEGIN:VEVENT
DTSTART;TZID=Europe/Paris:20191124T080000
DTEND;TZID=Europe/Paris:20191130T170000
DTSTAMP:20260422T121321
CREATED:20191006T214011Z
LAST-MODIFIED:20191111T154544Z
UID:5865-1574582400-1575133200@www.muziekonderwijs-leiderdorp.nl
SUMMARY:WORKSHOP-WEEK
DESCRIPTION:Een week vol workshops\, ensemble sessies\, lezingen en concertjes samengesteld door het docententeam van Stichting MOL. Klik hier voor het programma en het aanmeldformulier. \n
URL:https://www.muziekonderwijs-leiderdorp.nl/cursus/workshop-week/
LOCATION:Berkenkade 7\, 2351NA Leiderdorp
END:VEVENT
END:VCALENDAR