BEGIN:VCALENDAR
VERSION:2.0
PRODID:-//Stichting Muziekonderwijs Leidendorp en omstreken - ECPv4.9.13//NONSGML v1.0//EN
CALSCALE:GREGORIAN
METHOD:PUBLISH
X-WR-CALNAME:Stichting Muziekonderwijs Leidendorp en omstreken
X-ORIGINAL-URL:https://www.muziekonderwijs-leiderdorp.nl
X-WR-CALDESC:Events for Stichting Muziekonderwijs Leidendorp en omstreken
BEGIN:VTIMEZONE
TZID:Europe/Paris
BEGIN:DAYLIGHT
TZOFFSETFROM:+0100
TZOFFSETTO:+0200
TZNAME:CEST
DTSTART:20190331T010000
END:DAYLIGHT
BEGIN:STANDARD
TZOFFSETFROM:+0200
TZOFFSETTO:+0100
TZNAME:CET
DTSTART:20191027T010000
END:STANDARD
END:VTIMEZONE
BEGIN:VEVENT
DTSTART;TZID=Europe/Paris:20191124T140000
DTEND;TZID=Europe/Paris:20191124T170000
DTSTAMP:20260422T120348
CREATED:20190930T220710Z
LAST-MODIFIED:20191031T193008Z
UID:5844-1574604000-1574614800@www.muziekonderwijs-leiderdorp.nl
SUMMARY:Junior Band Stars - Open Podium
DESCRIPTION:Traditie getrouw zullen ook een aantal leerlingen van stichting MOL te horen zijn op het Open Podium van de Jans Fanfare in Zoeterwoude. \nAanvang 14:00 uur. \nToegang: vrij \nLocatie : Het Muziekcentrum\, Schenkelweg 6\, 2381 AN Zoeterwoude \n
URL:https://www.muziekonderwijs-leiderdorp.nl/cursus/open-podium-jeugd/
LOCATION:Schenkelweg 6 2381 AN Zoeterwoude
END:VEVENT
END:VCALENDAR