BEGIN:VCALENDAR
VERSION:2.0
PRODID:-//Stichting Muziekonderwijs Leidendorp en omstreken - ECPv4.9.13//NONSGML v1.0//EN
CALSCALE:GREGORIAN
METHOD:PUBLISH
X-WR-CALNAME:Stichting Muziekonderwijs Leidendorp en omstreken
X-ORIGINAL-URL:https://www.muziekonderwijs-leiderdorp.nl
X-WR-CALDESC:Events for Stichting Muziekonderwijs Leidendorp en omstreken
BEGIN:VTIMEZONE
TZID:Europe/Paris
BEGIN:DAYLIGHT
TZOFFSETFROM:+0100
TZOFFSETTO:+0200
TZNAME:CEST
DTSTART:20190331T010000
END:DAYLIGHT
BEGIN:STANDARD
TZOFFSETFROM:+0200
TZOFFSETTO:+0100
TZNAME:CET
DTSTART:20191027T010000
END:STANDARD
END:VTIMEZONE
BEGIN:VEVENT
DTSTART;TZID=Europe/Paris:20190615T143000
DTEND;TZID=Europe/Paris:20190615T170000
DTSTAMP:20260422T195925
CREATED:20190422T085054Z
LAST-MODIFIED:20190422T085106Z
UID:4935-1560609000-1560618000@www.muziekonderwijs-leiderdorp.nl
SUMMARY:Open Dag
DESCRIPTION:Ben je benieuwd wat onze muziekschool jou te bieden heeft? Kom naar de Open Dag op zaterdag 15 juni.Van 14:30 – 17:00 uur zijn de docenten aanwezig en informeren je graag! \n  \n
URL:https://www.muziekonderwijs-leiderdorp.nl/cursus/open-dag/
LOCATION:Berkenkade 7\, Leiderdorp
END:VEVENT
END:VCALENDAR