BEGIN:VCALENDAR
VERSION:2.0
PRODID:-//Stichting Muziekonderwijs Leidendorp en omstreken - ECPv4.9.13//NONSGML v1.0//EN
CALSCALE:GREGORIAN
METHOD:PUBLISH
X-WR-CALNAME:Stichting Muziekonderwijs Leidendorp en omstreken
X-ORIGINAL-URL:https://www.muziekonderwijs-leiderdorp.nl
X-WR-CALDESC:Events for Stichting Muziekonderwijs Leidendorp en omstreken
BEGIN:VTIMEZONE
TZID:Europe/Paris
BEGIN:DAYLIGHT
TZOFFSETFROM:+0100
TZOFFSETTO:+0200
TZNAME:CEST
DTSTART:20200329T010000
END:DAYLIGHT
BEGIN:STANDARD
TZOFFSETFROM:+0200
TZOFFSETTO:+0100
TZNAME:CET
DTSTART:20201025T010000
END:STANDARD
END:VTIMEZONE
BEGIN:VEVENT
DTSTART;TZID=Europe/Paris:20200119T161500
DTEND;TZID=Europe/Paris:20200119T171500
DTSTAMP:20260422T091618
CREATED:20191215T213352Z
LAST-MODIFIED:20191219T221453Z
UID:6004-1579450500-1579454100@www.muziekonderwijs-leiderdorp.nl
SUMMARY:Nieuwjaarsconcert
DESCRIPTION:Het eerste concert in het nieuwe jaar vindt plaats op zondag 19 januari om 16:15 uur in de Dorpskerk van Leiderdorp\, Hoofdstraat 19\nIeder jaar weer een sfeervol concert!\nToegang: vrijwillige bijdrage \n
URL:https://www.muziekonderwijs-leiderdorp.nl/cursus/nieuwjaarsconcert-2/
LOCATION:Dorpskerk Leiderdorp\, Hoofdstraat 19\, Leiderdorp
END:VEVENT
END:VCALENDAR