BEGIN:VCALENDAR
VERSION:2.0
PRODID:-//Stichting Muziekonderwijs Leidendorp en omstreken - ECPv4.9.13//NONSGML v1.0//EN
CALSCALE:GREGORIAN
METHOD:PUBLISH
X-WR-CALNAME:Stichting Muziekonderwijs Leidendorp en omstreken
X-ORIGINAL-URL:https://www.muziekonderwijs-leiderdorp.nl
X-WR-CALDESC:Events for Stichting Muziekonderwijs Leidendorp en omstreken
BEGIN:VTIMEZONE
TZID:Europe/Paris
BEGIN:DAYLIGHT
TZOFFSETFROM:+0100
TZOFFSETTO:+0200
TZNAME:CEST
DTSTART:20260329T010000
END:DAYLIGHT
BEGIN:STANDARD
TZOFFSETFROM:+0200
TZOFFSETTO:+0100
TZNAME:CET
DTSTART:20261025T010000
END:STANDARD
END:VTIMEZONE
BEGIN:VEVENT
DTSTART;TZID=Europe/Paris:20260428T080000
DTEND;TZID=Europe/Paris:20260508T170000
DTSTAMP:20260422T140902
CREATED:20260421T200852Z
LAST-MODIFIED:20260421T200927Z
UID:10873-1777363200-1778259600@www.muziekonderwijs-leiderdorp.nl
SUMMARY:Mei vakantie 28 april-  mei
DESCRIPTION:We houden ons in principe aan de schoolvakanties van de basisscholen in de regio \nOmdat we weten dat deze mei vakantie op veel scholen verschillend is georganiseerd adviseren we iedereen met de docenten te overleggen. \n
URL:https://www.muziekonderwijs-leiderdorp.nl/cursus/mei-vakantie-28-april-mei/
LOCATION:Berkenkade 7\, Leiderdorp
END:VEVENT
END:VCALENDAR