BEGIN:VCALENDAR
VERSION:2.0
PRODID:-//Stichting Muziekonderwijs Leidendorp en omstreken - ECPv4.9.13//NONSGML v1.0//EN
CALSCALE:GREGORIAN
METHOD:PUBLISH
X-WR-CALNAME:Stichting Muziekonderwijs Leidendorp en omstreken
X-ORIGINAL-URL:https://www.muziekonderwijs-leiderdorp.nl
X-WR-CALDESC:Events for Stichting Muziekonderwijs Leidendorp en omstreken
BEGIN:VTIMEZONE
TZID:Europe/Paris
BEGIN:DAYLIGHT
TZOFFSETFROM:+0100
TZOFFSETTO:+0200
TZNAME:CEST
DTSTART:20190331T010000
END:DAYLIGHT
BEGIN:STANDARD
TZOFFSETFROM:+0200
TZOFFSETTO:+0100
TZNAME:CET
DTSTART:20191027T010000
END:STANDARD
END:VTIMEZONE
BEGIN:VEVENT
DTSTART;TZID=Europe/Paris:20190427T123000
DTEND;TZID=Europe/Paris:20190427T131500
DTSTAMP:20260422T230601
CREATED:20190315T221138Z
LAST-MODIFIED:20190315T221142Z
UID:4680-1556368200-1556370900@www.muziekonderwijs-leiderdorp.nl
SUMMARY:Koningsdag - Muziek in de Dorpskerk
DESCRIPTION:Traditiegetrouw verzorgen leerlingen van stichting MOL een muzikale presentatie in de Leiderdorpse Dorpskerk op Koningsdag. \n
URL:https://www.muziekonderwijs-leiderdorp.nl/cursus/koningsdag-muziek-in-de-dorpskerk/
LOCATION:Dorpskerk Leiderdorp\, Hoofdstraat 19\, Leiderdorp
END:VEVENT
END:VCALENDAR