BEGIN:VCALENDAR
VERSION:2.0
PRODID:-//Stichting Muziekonderwijs Leidendorp en omstreken - ECPv4.9.13//NONSGML v1.0//EN
CALSCALE:GREGORIAN
METHOD:PUBLISH
X-WR-CALNAME:Stichting Muziekonderwijs Leidendorp en omstreken
X-ORIGINAL-URL:https://www.muziekonderwijs-leiderdorp.nl
X-WR-CALDESC:Events for Stichting Muziekonderwijs Leidendorp en omstreken
BEGIN:VTIMEZONE
TZID:Europe/Paris
BEGIN:DAYLIGHT
TZOFFSETFROM:+0100
TZOFFSETTO:+0200
TZNAME:CEST
DTSTART:20190331T010000
END:DAYLIGHT
BEGIN:STANDARD
TZOFFSETFROM:+0200
TZOFFSETTO:+0100
TZNAME:CET
DTSTART:20191027T010000
END:STANDARD
END:VTIMEZONE
BEGIN:VEVENT
DTSTART;TZID=Europe/Paris:20191124T113000
DTEND;TZID=Europe/Paris:20191124T130000
DTSTAMP:20260422T120439
CREATED:20191110T213935Z
LAST-MODIFIED:20191110T221038Z
UID:5906-1574595000-1574600400@www.muziekonderwijs-leiderdorp.nl
SUMMARY:Inwijding Bechstein vleugel
DESCRIPTION:Bechstein vleugel in de spotlights                                                                                                                                                                 Een Bechstein vleugel uit het begin van de 20e eeuw was de aanwinst van de muziekschool dit jaar. Dankzij een bijzondere gift en een bijdrage van het Druckersfonds kon het instrument worden overgebracht en gereviseerd. Met deze feestelijke introductie wordt het instrument ingewijd met interessante achtergrondinformatie door Niels de Jonge en natuurlijk met pianomuziek! \nZondag 24 november 11.30-13.00 uur Berkenkade 7\, Leiderdorp\n \n
URL:https://www.muziekonderwijs-leiderdorp.nl/cursus/inwijding-bechstein-vleugel/
LOCATION:Berkenkade 7\, 2351NA Leiderdorp
END:VEVENT
END:VCALENDAR