BEGIN:VCALENDAR
VERSION:2.0
PRODID:-//Stichting Muziekonderwijs Leidendorp en omstreken - ECPv4.9.13//NONSGML v1.0//EN
CALSCALE:GREGORIAN
METHOD:PUBLISH
X-WR-CALNAME:Stichting Muziekonderwijs Leidendorp en omstreken
X-ORIGINAL-URL:https://www.muziekonderwijs-leiderdorp.nl
X-WR-CALDESC:Events for Stichting Muziekonderwijs Leidendorp en omstreken
BEGIN:VTIMEZONE
TZID:Europe/Paris
BEGIN:DAYLIGHT
TZOFFSETFROM:+0100
TZOFFSETTO:+0200
TZNAME:CEST
DTSTART:20190331T010000
END:DAYLIGHT
BEGIN:STANDARD
TZOFFSETFROM:+0200
TZOFFSETTO:+0100
TZNAME:CET
DTSTART:20191027T010000
END:STANDARD
END:VTIMEZONE
BEGIN:VEVENT
DTSTART;TZID=Europe/Paris:20190922T130000
DTEND;TZID=Europe/Paris:20190922T170000
DTSTAMP:20260422T144702
CREATED:20190903T184929Z
LAST-MODIFIED:20190916T152408Z
UID:5751-1569157200-1569171600@www.muziekonderwijs-leiderdorp.nl
SUMMARY:De Pianospelen
DESCRIPTION:Op zondagmiddag 22 september vanaf 13:00 uur is stichting MOL te vinden bij een van de piano’s  in de binnenstad van Leiden. Deze piano ziet er wel bijzonder uit! Kinderen van 5-7 jaar kunnen er luisteren naar een verhaal over de Beer en de Piano\, je kunt er luisteren naar leerlingen die de piano bespelen\, je kunt samen met een van de docenten je eerste lesje spelen\, je komt er van alles te weten over de piano\, meer of minder sterke verhalen en over het stemmen van de piano.  De exacte tijden vind je op deze website \nDe Pianospelen wordt georganiseerd door Fields of Wonder:    http://fieldsofwonder.nl/voorstellingen/125-de-pianospelen \n
URL:https://www.muziekonderwijs-leiderdorp.nl/cursus/de-pianospelen/
END:VEVENT
END:VCALENDAR