BEGIN:VCALENDAR
VERSION:2.0
PRODID:-//Stichting Muziekonderwijs Leidendorp en omstreken - ECPv4.9.13//NONSGML v1.0//EN
CALSCALE:GREGORIAN
METHOD:PUBLISH
X-WR-CALNAME:Stichting Muziekonderwijs Leidendorp en omstreken
X-ORIGINAL-URL:https://www.muziekonderwijs-leiderdorp.nl
X-WR-CALDESC:Events for Stichting Muziekonderwijs Leidendorp en omstreken
BEGIN:VTIMEZONE
TZID:Europe/Paris
BEGIN:DAYLIGHT
TZOFFSETFROM:+0100
TZOFFSETTO:+0200
TZNAME:CEST
DTSTART:20190331T010000
END:DAYLIGHT
BEGIN:STANDARD
TZOFFSETFROM:+0200
TZOFFSETTO:+0100
TZNAME:CET
DTSTART:20191027T010000
END:STANDARD
END:VTIMEZONE
BEGIN:VEVENT
DTSTART;TZID=Europe/Paris:20191110T150000
DTEND;TZID=Europe/Paris:20191110T160000
DTSTAMP:20260422T121019
CREATED:20191031T193557Z
LAST-MODIFIED:20191031T193729Z
UID:5885-1573398000-1573401600@www.muziekonderwijs-leiderdorp.nl
SUMMARY:Blaaskwintet Shackleton
DESCRIPTION:Een muzikale middag met op het programma \n\nGustav Holst (1874-1934)\, blaaskwintet\, prachtige melodieën in een unieke stijl\nJosef Suk (1874-1935)\, Blind Musicians\, een laat-romantisch intermezzo voor piano en twee althobo’s\nLeoš Janáček (1854-1928)\, Mládí (jeugd) voor blaas-sextet. De 70-jarige Janáček beschrijft zijn bitterzoete jeugdherinneringen in een muzikale caleidoscoop\n\nMet verrassend optreden van saxofoonkwartet TempoRarely met klassiek repertoire. \nAanvang | 15:00 uur \nLocatie | Tuinzaal van de Burcht\, Burgsteeg 14\, Leiden \n\nToegang | vrij\, donatie in de muziekkist \n
URL:https://www.muziekonderwijs-leiderdorp.nl/cursus/blaaskwintet-shackleton/
LOCATION:Burgsteeg 14\, Leiden
END:VEVENT
END:VCALENDAR