BEGIN:VCALENDAR
VERSION:2.0
PRODID:-//Stichting Muziekonderwijs Leidendorp en omstreken - ECPv4.9.13//NONSGML v1.0//EN
CALSCALE:GREGORIAN
METHOD:PUBLISH
X-WR-CALNAME:Stichting Muziekonderwijs Leidendorp en omstreken
X-ORIGINAL-URL:https://www.muziekonderwijs-leiderdorp.nl
X-WR-CALDESC:Events for Stichting Muziekonderwijs Leidendorp en omstreken
BEGIN:VTIMEZONE
TZID:Europe/Paris
BEGIN:DAYLIGHT
TZOFFSETFROM:+0100
TZOFFSETTO:+0200
TZNAME:CEST
DTSTART:20200329T010000
END:DAYLIGHT
BEGIN:STANDARD
TZOFFSETFROM:+0200
TZOFFSETTO:+0100
TZNAME:CET
DTSTART:20201025T010000
END:STANDARD
END:VTIMEZONE
BEGIN:VEVENT
DTSTART;TZID=Europe/Paris:20200115T080000
DTEND;TZID=Europe/Paris:20200115T170000
DTSTAMP:20260422T092951
CREATED:20200104T100930Z
LAST-MODIFIED:20200104T100945Z
UID:6062-1579075200-1579107600@www.muziekonderwijs-leiderdorp.nl
SUMMARY:1\,2\,3... Muziek! (5-7 jaar)
DESCRIPTION:De cursus 1\,2\,3… Muziek! is een vrolijke cursus waarin kinderen van 5- 7 jaar kennis maken met allerlei facetten van musiceren d.m.v. zingen\, klappen\, spelletjes en het spelen op instrumentjes. In overleg met de docent wordt bekeken wat een goede vervolgstap kan zijn.  De cursus start in de week van 20 januari en wordt gegeven op maandag en vrijdag om 15:30 uur\, op woensdag om 13:30 uur \n
URL:https://www.muziekonderwijs-leiderdorp.nl/cursus/123-muziek-5-7-jaar/
LOCATION:Berkenkade 7\, 2351NA Leiderdorp
END:VEVENT
END:VCALENDAR